BEGIN:VCALENDAR
VERSION:2.0
PRODID:-//ChamberMaster//Event Calendar 2.0//EN
METHOD:PUBLISH
X-PUBLISHED-TTL:P3D
REFRESH-INTERVAL:P3D
CALSCALE:GREGORIAN
BEGIN:VEVENT
DTSTART;VALUE=DATE:20220903
DTEND;VALUE=DATE:20220904
TRANSP:TRANSPARENT
X-MICROSOFT-CDO-ALLDAYEVENT:TRUE
SUMMARY:City Wide Rummage Sales - Fall 2022
DESCRIPTION:City residents hold rummage sales at their homes.  Some area businesses may also partake in the sales.  This event is always held the first Saturday in September.  Many sales start on the Friday before and some even on the Thursday before.  For a list of sales\, pick up the Monroe County Herald the week of the City-Wide Sales.  \n\n\n\nHappy Shopping!
X-ALT-DESC;FMTTYPE=text/html:<p style="margin: 0px\; line-height: normal\; font-family: Helvetica\; -webkit-text-stroke-color: rgb(0\, 0\, 0)\; -webkit-text-stroke-width: initial\;"><span style="font-kerning: none">City residents hold rummage sales at their homes.&nbsp\; Some area businesses may also partake in the sales.&nbsp\; This event is always held the first Saturday in September.&nbsp\; Many sales start on the Friday before and some even on the Thursday before.&nbsp\;&nbsp\;For a list of sales\, pick up the Monroe County Herald the week of the City-Wide Sales.&nbsp\;&nbsp\;<br />\n<br />\nHappy Shopping!&nbsp\;</span></p>\n
LOCATION:Locations vary throughout town.
UID:e.85.15907
SEQUENCE:3
DTSTAMP:20260419T193935Z
URL:https://members.tomahwisconsin.com/events/details/city-wide-rummage-sales-fall-2022-15907
END:VEVENT

END:VCALENDAR
