BEGIN:VCALENDAR
VERSION:2.0
PRODID:-//ChamberMaster//Event Calendar 2.0//EN
METHOD:PUBLISH
X-PUBLISHED-TTL:P3D
REFRESH-INTERVAL:P3D
CALSCALE:GREGORIAN
BEGIN:VEVENT
DTSTART:20320310T163000Z
DTEND:20320310T213000Z
X-MICROSOFT-CDO-ALLDAYEVENT:FALSE
SUMMARY:Creative Corner - Tomah Senior Center
DESCRIPTION:Every 2nd & 4th Wednesday.  Bring whatever project you are working on: like painting\, drawing\, photography\, paper crafts\, beadwork\, jewelry making\, crocheting\, embroidery\, or knitting.  Card tables are available to work at.  Bring your own lunch or sign up ahead of time for the county's nutrition site meal.
X-ALT-DESC;FMTTYPE=text/html:Every 2nd &amp\; 4th Wednesday.&nbsp\; Bring whatever project you are working on: like painting\, drawing\, photography\, paper crafts\, beadwork\, jewelry making\, crocheting\, embroidery\, or knitting.&nbsp\; Card tables are available to work at.&nbsp\; Bring your own lunch or sign up ahead of time for the county&#39\;s nutrition site meal.&nbsp\;
LOCATION:Tomah Senior Center 1002 Superior Ave Tomah\, WI 54660
UID:e.85.23670
SEQUENCE:3
DTSTAMP:20260421T032253Z
URL:https://members.tomahwisconsin.com/events/details/creative-corner-tomah-senior-center-03-10-2032-23670
END:VEVENT

END:VCALENDAR
