BEGIN:VCALENDAR
VERSION:2.0
PRODID:-//ChamberMaster//Event Calendar 2.0//EN
METHOD:PUBLISH
X-PUBLISHED-TTL:P3D
REFRESH-INTERVAL:P3D
CALSCALE:GREGORIAN
BEGIN:VEVENT
DTSTART:20210715T230000Z
DTEND:20210716T020000Z
X-MICROSOFT-CDO-ALLDAYEVENT:FALSE
SUMMARY:Downtown Thursday Nights 2021: Devon Worley Band
DESCRIPTION:The Devon Worley Band was forged out of raw talent. Devon's undeniable ability drew top-tier touring musicians to her side at a very early age. While every other teenage girl was hanging out at the mall snap chatting their boyfriends\, Devon's teenage years were spent paying dues\, traveling with her band\, and touring relentlessly across the heartland\; playing just about every bar\, fair and festival in the grain belt.\n\n\n\nNow in her early 20's\, Devon Worley and her band have taken the Midwest music scene by storm and are garnering critical acclaim and national attention. Their latest full length album "The Sunrise Resistance" has caught the attention of not only country music fans nationwide\, but also Nashville insiders eager to see more of the band's no-rules writing style.\n\n\n\nRiding their own raw edge of country and rock\, this band is turning heads and making waves\, while bringing a brand new attitude to country music. From their songwriting style to their studio recordings\, the girl and her band are forging their own unique path. However\, their true love is the stage. Their passion for the live show\, the audience and their fans is evident\; and their talent undeniable. Catch a show\, grab yourself a seat and get ready to be blown away. Welcome to the future.\n\n\n\nDowntown Thursday Nights will also feature food and drink vendors and a Kids Zone with bounce houses\, a face painter\, and a caricaturist. This will be the event to hear some great music\, have dinner and a drink\, bring the kids out to play\, and meet up with old neighbors and new friends.
X-ALT-DESC;FMTTYPE=text/html:<p style="box-sizing: inherit\; margin: 0px 0px 1.8em\; color: rgb(85\, 85\, 85)\; font-family: Merriweather\, serif\; font-size: 16px\;"><span style="color:#000000\;"><span style="font-size:14px\;"><span style="font-family:arial\;">The Devon Worley Band was forged out of raw talent. Devon&rsquo\;s undeniable ability drew top-tier touring musicians to her side at a very early age. While every other teenage girl was hanging out at the mall snap chatting their boyfriends\, Devon&rsquo\;s teenage years were spent paying dues\, traveling with her band\, and touring relentlessly across the heartland\; playing just about every bar\, fair and festival in the grain belt.</span></span><br />\n<br />\n<span style="font-size:14px\;"><span style="font-family:arial\;">Now in her early 20&rsquo\;s\, Devon Worley and her band have taken the Midwest music scene by storm and are garnering critical acclaim and national attention. Their latest full length album &ldquo\;The Sunrise Resistance&rdquo\; has caught the attention of not only country music fans nationwide\, but also Nashville insiders eager to see more of the band&rsquo\;s no-rules writing style.</span></span><br />\n<br />\n<span style="font-size:14px\;"><span style="font-family:arial\;">Riding their own raw edge of country and rock\, this band is turning heads and making waves\, while bringing a brand new attitude to country music. From their songwriting style to their studio recordings\, the girl and her band are forging their own unique path. However\, their true love is the stage. Their passion for the live show\, the audience and their fans is evident\; and their talent undeniable. Catch a show\, grab yourself a seat and get ready to be blown away. Welcome to the future.</span></span></span><br />\n<br />\n<span style="color: rgb(29\, 33\, 41)\; font-family: arial\; font-size: 14px\;">Downtown Thursday Nights will also feature food and drink vendors and a Kids Zone with bounce houses\, a face painter\, and a caricaturist. This will be the event to hear some great music\, have dinner and a drink\, bring the kids out to play\, and meet up with old neighbors and new friends.</span><br />\n<br />\n&nbsp\;</p>\n
LOCATION:800 Block Superior Ave Tomah\, WI
UID:e.85.14104
SEQUENCE:3
DTSTAMP:20260424T072302Z
URL:https://members.tomahwisconsin.com/events/details/downtown-thursday-nights-2021-devon-worley-band-14104
END:VEVENT

END:VCALENDAR
