BEGIN:VCALENDAR
VERSION:2.0
PRODID:-//ChamberMaster//Event Calendar 2.0//EN
METHOD:PUBLISH
X-PUBLISHED-TTL:P3D
REFRESH-INTERVAL:P3D
CALSCALE:GREGORIAN
BEGIN:VEVENT
DTSTART:20220707T230000Z
DTEND:20220708T020000Z
X-MICROSOFT-CDO-ALLDAYEVENT:FALSE
SUMMARY:Downtown Thursday Nights 2022: Hillbilly Rockstarz
DESCRIPTION:Join us to hear great music\, have dinner and drinks\, bring the kids out to play\, meet up with friends and family\, and maybe even make new friends!  DTN will feature: free admission\, food and drink vendors\, beer booth\, and Kid Zone with face painting\, caricatures\, and bounce houses! Don't forget your lawn chair! \n\n\n\nThe musicians in Hillbilly Rockstarz grew up with the love of country and rock n' roll music. Each member brings a unique musical aesthetic to the band and over the years they have grown comfortable with mixing it up! Adding genres and mashing up influences from Pop\, Rock and Dance combined with their high energy live music keeps the fans dancing all night long.  Country music is the band's first love\, however\, as music lovers and people pleasers\, they will surprise you with something for everybody!\n\n \n\nhttps://hillbillyrockstarz.com/
X-ALT-DESC;FMTTYPE=text/html:<span style="font-family:verdana\;"><span style="font-size:12px\;">Join us to hear great music\, have dinner and drinks\, bring the kids out to play\, meet up with friends and family\, and maybe even make new friends!&nbsp\; DTN will feature: free admission\, food and drink vendors\, beer booth\, and Kid Zone with face painting\, caricatures\, and bounce houses! Don&#39\;t forget your lawn chair!&nbsp\;<br />\n<br />\nThe musicians in Hillbilly Rockstarz grew up with the love of country and rock n&#39\; roll music. Each member brings a unique musical aesthetic to the band and over the years they have grown comfortable with mixing it up! Adding genres and mashing up influences from Pop\, Rock and Dance combined with their high energy live music keeps the fans dancing all night long.&nbsp\; Country music is the band&rsquo\;s first love\, however\, as music lovers and people pleasers\, they will surprise you with something for everybody!<br />\n&nbsp\;<br />\n<a href="https://hillbillyrockstarz.com/">https://hillbillyrockstarz.com/</a></span></span>
LOCATION:800 - 900 Blocks of Superior Avenue Tomah\, WI
UID:e.85.15909
SEQUENCE:3
DTSTAMP:20260419T133730Z
URL:https://members.tomahwisconsin.com/events/details/downtown-thursday-nights-2022-hillbilly-rockstarz-15909
END:VEVENT

END:VCALENDAR
