BEGIN:VCALENDAR
VERSION:2.0
PRODID:-//ChamberMaster//Event Calendar 2.0//EN
METHOD:PUBLISH
X-PUBLISHED-TTL:P3D
REFRESH-INTERVAL:P3D
CALSCALE:GREGORIAN
BEGIN:VEVENT
DTSTART:20241128T140000Z
DTEND:20241128T160000Z
X-MICROSOFT-CDO-ALLDAYEVENT:FALSE
SUMMARY:Gobbler Giveback 5K Run/Walk
DESCRIPTION:Help us continue the Gobbler Giveback tradition of getting some Turkey Day physical activity while supporting local non-profit organizations.  Run starts at the Black River Area Chamber of Commerce.
X-ALT-DESC;FMTTYPE=text/html:Help us continue the Gobbler Giveback tradition of getting some Turkey Day physical activity while supporting local non-profit organizations.&nbsp\; Run starts at the Black River Area Chamber of Commerce.&nbsp\;
LOCATION:Black River Area Chamber of Commerce.
UID:e.85.28440
SEQUENCE:3
DTSTAMP:20260423T072859Z
URL:https://members.tomahwisconsin.com/events/details/gobbler-giveback-5k-run-walk-28440
END:VEVENT

END:VCALENDAR
