BEGIN:VCALENDAR
VERSION:2.0
PRODID:-//ChamberMaster//Event Calendar 2.0//EN
METHOD:PUBLISH
X-PUBLISHED-TTL:P3D
REFRESH-INTERVAL:P3D
CALSCALE:GREGORIAN
BEGIN:VEVENT
DTSTART:20310908T150000Z
DTEND:20310908T160000Z
X-MICROSOFT-CDO-ALLDAYEVENT:FALSE
SUMMARY:Kaffee Klatch - Tomah Senior Center
DESCRIPTION:Come\, enjoy Kaffee Klatch\, a social gathering for informal conversation at which coffee is served\, at the Tomah Senior Center every second Monday of the month.  They'll be serving coffee\, tea\, and other beverages\, along with donuts and/or other treats.
X-ALT-DESC;FMTTYPE=text/html:Come\, enjoy Kaffee Klatch\, a social gathering for informal conversation at which coffee is served\, at the Tomah Senior Center every second Monday of the month.&nbsp\; They&#39\;ll be serving coffee\, tea\, and other beverages\, along with donuts and/or other treats.&nbsp\;
LOCATION:Tomah Senior Center 1002 Superior Ave Tomah\, WI 54660
UID:e.85.23539
SEQUENCE:3
DTSTAMP:20260419T210914Z
URL:https://members.tomahwisconsin.com/events/details/kaffee-klatch-09-08-2031-23539
END:VEVENT

END:VCALENDAR
