BEGIN:VCALENDAR
VERSION:2.0
PRODID:-//ChamberMaster//Event Calendar 2.0//EN
METHOD:PUBLISH
X-PUBLISHED-TTL:P3D
REFRESH-INTERVAL:P3D
CALSCALE:GREGORIAN
BEGIN:VEVENT
DTSTART:20260307T010000Z
DTEND:20260307T040000Z
X-MICROSOFT-CDO-ALLDAYEVENT:FALSE
SUMMARY:Live at the Brick - Blackwater Dan
DESCRIPTION:Blackwater Dan is a seasoned Wisconsin musician and master storyteller whose performances blend Americana\, blues\, folk\, classic rock\, and roots music into an unforgettable live experience. Hailing from Black River Falls\, Dan has built a loyal following with his soulful vocals\, expressive guitar work\, and his signature harmonica style.\n\n \n\nPerforming under the name Blackwater Dan Guitars\, he brings decades of musicianship to every show delivering everything from stripped-down acoustic favorites to dynamic\, crowd-pleasing classics. His sets are tailored to the room\, creating an atmosphere that has equal parts laid-back listening session and high-energy singalong.\n\n \n\nWhether he's weaving original tunes into the mix or putting his own spin on beloved songs from across the decades\, Blackwater Dan connects with audiences through authenticity\, humor\, and heart.\n\n \n\nCatch him live at the Brick for an evening of great music\, great vibes\, and the unmistakable sound of a true Wisconsin original.\n\n \n\nFriday\, March 6\, 2026 | 7-10pm\n\nBrick Sip Haus\, 800 Superior Ave\, Tomah\, WI 54660
X-ALT-DESC;FMTTYPE=text/html:Blackwater Dan is a seasoned Wisconsin musician and master storyteller whose performances blend Americana\, blues\, folk\, classic rock\, and roots music into an unforgettable live experience. Hailing from Black River Falls\, Dan has built a loyal following with his soulful vocals\, expressive guitar work\, and his signature harmonica style.<br />\n&nbsp\;<br />\nPerforming under the name Blackwater Dan Guitars\, he brings decades of musicianship to every show&mdash\;delivering everything from stripped-down acoustic favorites to dynamic\, crowd-pleasing classics. His sets are tailored to the room\, creating an atmosphere that has equal parts laid-back listening session and high-energy singalong.<br />\n&nbsp\;<br />\nWhether he&rsquo\;s weaving original tunes into the mix or putting his own spin on beloved songs from across the decades\, Blackwater Dan connects with audiences through authenticity\, humor\, and heart.<br />\n&nbsp\;<br />\nCatch him live at the Brick for an evening of great music\, great vibes\, and the unmistakable sound of a true Wisconsin original.<br />\n&nbsp\;<br />\n<strong>Friday\, March 6\, 2026 | 7-10pm</strong><br />\n<strong>Brick Sip Haus\, 800 Superior Ave\, Tomah\, WI 54660</strong>
LOCATION:Brick Sip Haus 800 Superior Ave Tomah\, WI 54660
UID:e.85.32066
SEQUENCE:3
DTSTAMP:20260419T155213Z
URL:https://members.tomahwisconsin.com/events/details/live-at-the-brick-blackwater-dan-32066
END:VEVENT

END:VCALENDAR
