BEGIN:VCALENDAR
VERSION:2.0
PRODID:-//ChamberMaster//Event Calendar 2.0//EN
METHOD:PUBLISH
X-PUBLISHED-TTL:P3D
REFRESH-INTERVAL:P3D
CALSCALE:GREGORIAN
BEGIN:VEVENT
DTSTART:20251004T190000Z
DTEND:20251004T210000Z
X-MICROSOFT-CDO-ALLDAYEVENT:FALSE
SUMMARY:Miss Spooktacular Pinup Pageant - Double Barrel Bar
DESCRIPTION:Join Double Barrel Bar for their "Miss Spooktacular Pinup Pageant" held during their 2nd Annual "Octane in October" event! Don't miss this frightfully fabulous event!\n\n\n\nSaturday\, October 4\, 2025 | 2pm\n\nDouble Barrel Bar | 10555 Freedom Rd\, Tomah\n\n\n\n"Octane in October": Gates open at 8am. Registration ends at noon with awards at 2pm.  Live music from 12-3pm. Enjoy brat sale fundraiser.  All proceeds benefit Bulff and Ridge Equine Assisted Therapies. \n\n\n\nFour crowns and sashes to win!\n\n	Miss Spooktacular\n	Miss FaBOOlous\n	Miss BOOtiful\n	Halloween Honey\n\nHosted by Lacey Leadfoot and Hope Diamond.\n\n\n\nRegistration: $25
X-ALT-DESC;FMTTYPE=text/html:Join Double Barrel Bar for their &quot\;Miss Spooktacular Pinup Pageant&quot\; held during their 2nd Annual &quot\;Octane in October&quot\; event! Don&#39\;t miss this frightfully fabulous event!<br />\n<br />\nSaturday\, October 4\, 2025 | 2pm<br />\nDouble Barrel Bar | 10555 Freedom Rd\, Tomah<br />\n<br />\n&quot\;Octane in October&quot\;: Gates open at 8am. Registration ends at noon with awards at 2pm.&nbsp\; Live music from 12-3pm. Enjoy brat sale fundraiser.&nbsp\; All proceeds benefit Bulff and Ridge Equine Assisted Therapies.&nbsp\;<br />\n<br />\nFour crowns and sashes to win!\n<ul>\n	<li>Miss Spooktacular</li>\n	<li>Miss FaBOOlous</li>\n	<li>Miss BOOtiful</li>\n	<li>Halloween Honey</li>\n</ul>\nHosted by Lacey Leadfoot and Hope Diamond.<br />\n<br />\nRegistration: $25<br />\n&nbsp\;
LOCATION:Double Barrel Bar 10555 Freedom Rd Tomah\, WI 54660
UID:e.85.30509
SEQUENCE:3
DTSTAMP:20260419T155725Z
URL:https://members.tomahwisconsin.com/events/details/miss-spooktacular-pinup-pageant-double-barrel-bar-30509
END:VEVENT

END:VCALENDAR
