BEGIN:VCALENDAR
VERSION:2.0
PRODID:-//ChamberMaster//Event Calendar 2.0//EN
METHOD:PUBLISH
X-PUBLISHED-TTL:P3D
REFRESH-INTERVAL:P3D
CALSCALE:GREGORIAN
BEGIN:VEVENT
DTSTART;VALUE=DATE:20260611
DTEND;VALUE=DATE:20260615
TRANSP:TRANSPARENT
X-MICROSOFT-CDO-ALLDAYEVENT:TRUE
SUMMARY:Sparta Butterfest 2026
DESCRIPTION:42nd Annual Sparta Butterfest | June 11-14\, 2026 | Sparta\, WI\n\n\n\nJoin in on the fun at this family friendly festival featuring the Carnival\, arts & crafts\, flea market\, quilt show\, bingo\, petting zoo\, inflatables\, ventriloquist\, fest tent\, live music\, dart tournament\, car show\, cow milking contest\, firemen's water fights\, corn hole bean bag tournament\, ATV/UTV ride\, food vendors and huge parade on Sunday at 12:30pm.  Family Day in the fest tent on Sunday. \n\n\n\nFREE admission to the grounds.  Entry to the Fest Tent: $5 at the gate\; $3 advance tickets sales.  Visite website for information and event scheduling: https://www.spartabutterfest.com/.   \n\n\n\nFeaturing the following activities:\n\n	A&P Enterprises Carnival\n	Arts & Crafts\n	ATV and UTV Ride\n	Bingo\n	Buttercup Hockey Tournament\n	Butter Giveaway\n	Car Show\n	Cornhole Bean Bag Tournament\n	Corporate Sponsors Reception\n	Dart Tournament\n	Fest Tent Enertainment\n	Firemen's Waterfights\n	Food Vendors\n	Inflatables\n	Medallion Hunt\n	Milking Contest\n	Miss Sparta\n	Miss Wisconsin Send Off Party\n	Parade\n	Petting Zoo\n	Quilt Show\n	Social Media Contests\n	Softball Tournament\n	3 Person Golf Tourney
X-ALT-DESC;FMTTYPE=text/html:<strong>42nd Annual Sparta Butterfest | June 11-14\, 2026 | Sparta\, WI</strong><br />\n<br />\nJoin in on the fun at this family friendly festival featuring the Carnival\, arts &amp\; crafts\, flea market\, quilt show\, bingo\, petting zoo\, inflatables\, ventriloquist\, fest tent\, live music\, dart tournament\, car show\, cow milking contest\, firemen&#39\;s water fights\, corn hole bean bag tournament\, ATV/UTV ride\, food vendors and huge parade on Sunday at 12:30pm.&nbsp\; Family Day in the fest tent on Sunday.&nbsp\;<br />\n<br />\nFREE admission to the grounds.&nbsp\; Entry to the Fest Tent: $5 at the gate\; $3 advance tickets sales.&nbsp\; Visite website for information and event scheduling: <a href="https://www.spartabutterfest.com/">https://www.spartabutterfest.com/</a>. &nbsp\;&nbsp\;<br />\n<br />\nFeaturing the following activities:\n<ul>\n	<li>A&amp\;P Enterprises Carnival</li>\n	<li>Arts &amp\; Crafts</li>\n	<li>ATV and UTV Ride</li>\n	<li>Bingo</li>\n	<li>Buttercup Hockey Tournament</li>\n	<li>Butter Giveaway</li>\n	<li>Car Show</li>\n	<li>Cornhole Bean Bag Tournament</li>\n	<li>Corporate Sponsors Reception</li>\n	<li>Dart Tournament</li>\n	<li>Fest Tent Enertainment</li>\n	<li>Firemen&#39\;s Waterfights</li>\n	<li>Food Vendors</li>\n	<li>Inflatables</li>\n	<li>Medallion Hunt</li>\n	<li>Milking Contest</li>\n	<li>Miss Sparta</li>\n	<li>Miss Wisconsin Send Off Party</li>\n	<li>Parade</li>\n	<li>Petting Zoo</li>\n	<li>Quilt Show</li>\n	<li>Social Media Contests</li>\n	<li>Softball Tournament</li>\n	<li>3 Person Golf Tourney</li>\n</ul>\n
LOCATION:Memorial Park 1000 E. Montgomery St. Sparta\, WI
UID:e.85.32050
SEQUENCE:3
DTSTAMP:20260424T075500Z
URL:https://members.tomahwisconsin.com/events/details/sparta-butterfest-2026-32050
END:VEVENT

END:VCALENDAR
