BEGIN:VCALENDAR
VERSION:2.0
PRODID:-//ChamberMaster//Event Calendar 2.0//EN
METHOD:PUBLISH
X-PUBLISHED-TTL:P3D
REFRESH-INTERVAL:P3D
CALSCALE:GREGORIAN
BEGIN:VEVENT
DTSTART:20250905T220000Z
DTEND:20250906T020000Z
X-MICROSOFT-CDO-ALLDAYEVENT:FALSE
SUMMARY:Summer Music on the Patio at JAC's Steakhouse with Logan Spicer
DESCRIPTION:Enjoy drinks on the patio with live music this summer at JAC's Steakhouse!\n\n\n\nThis week's summer music: Logan Spicer\, 5-9pm
X-ALT-DESC;FMTTYPE=text/html:Enjoy drinks on the patio with live music this summer at JAC&#39\;s Steakhouse!<br />\n<br />\nThis week&#39\;s summer music: Logan Spicer\, 5-9pm
LOCATION:JAC's Steakhouse 309 Superior Ave Tomah\, WI 54660
UID:e.85.30277
SEQUENCE:3
DTSTAMP:20260419T123455Z
URL:https://members.tomahwisconsin.com/events/details/summer-music-on-the-patio-at-jac-s-steakhouse-with-logan-spicer-30277
END:VEVENT

END:VCALENDAR
