BEGIN:VCALENDAR
VERSION:2.0
PRODID:-//ChamberMaster//Event Calendar 2.0//EN
METHOD:PUBLISH
X-PUBLISHED-TTL:P3D
REFRESH-INTERVAL:P3D
CALSCALE:GREGORIAN
BEGIN:VEVENT
DTSTART:20320120T010000Z
DTEND:20320120T020000Z
X-MICROSOFT-CDO-ALLDAYEVENT:FALSE
SUMMARY:Tomah Area School Board Meeting
DESCRIPTION:
X-ALT-DESC;FMTTYPE=text/html:
LOCATION:Robert Kupper Learning Center
UID:e.85.16581
SEQUENCE:3
DTSTAMP:20260420T181653Z
URL:https://members.tomahwisconsin.com/events/details/tomah-area-school-board-meeting-01-19-2032-16581
END:VEVENT

END:VCALENDAR
