BEGIN:VCALENDAR
VERSION:2.0
PRODID:-//ChamberMaster//Event Calendar 2.0//EN
METHOD:PUBLISH
X-PUBLISHED-TTL:P3D
REFRESH-INTERVAL:P3D
CALSCALE:GREGORIAN
BEGIN:VEVENT
DTSTART:20230127T210000Z
DTEND:20230129T210000Z
X-MICROSOFT-CDO-ALLDAYEVENT:FALSE
SUMMARY:Tomah Gun Show Hosted by Marv Kraus Promotions
DESCRIPTION:The Tomah Gun Show will be held next on Jan 27th-29th\, 2023 with additional shows on Apr 14th-16th\, 2023\, and Oct 27th-29th\, 2023 in Tomah\, WI. This Tomah gun show is held at Monroe County Fairgrounds and hosted by Marv Kraus Promotions. All federal and local firearm laws and ordinances must be obeyed.\n\n\n\nFriday: 3:00pm - 8:30pm\n\nSaturday: 9:00am - 5:00pm\n\nSunday: 9:00am - 3:00pm\n\n\n\nMarv Kraus Promotions Contact: Marv Kraus Phone: (563) 608-4401 Contact: Andrew Kraus Phone: (563) 608-2045 Email: kraus.andrew.ak@gmail.com http://www.marvkrauspromotions.net/
X-ALT-DESC;FMTTYPE=text/html:The Tomah Gun Show will be held next on Jan 27th-29th\, 2023 with additional shows on Apr 14th-16th\, 2023\, and Oct 27th-29th\, 2023 in Tomah\, WI. This Tomah gun show is held at Monroe County Fairgrounds and hosted by Marv Kraus Promotions. All federal and local firearm laws and ordinances must be obeyed.<br />\n<br />\nFriday: 3:00pm - 8:30pm<br />\nSaturday: 9:00am - 5:00pm<br />\nSunday: 9:00am - 3:00pm<br />\n<br />\nMarv Kraus Promotions Contact: Marv Kraus Phone: (563) 608-4401 Contact: Andrew Kraus Phone: (563) 608-2045 Email: kraus.andrew.ak@gmail.com http://www.marvkrauspromotions.net/
LOCATION:Monroe County Fairgrounds 1625 Butts Ave Tomah\, WI 54660
UID:e.85.16602
SEQUENCE:3
DTSTAMP:20260425T023351Z
URL:https://members.tomahwisconsin.com/events/details/tomah-gun-show-hosted-by-marv-kraus-promotions-16602
END:VEVENT

END:VCALENDAR
