BEGIN:VCALENDAR
VERSION:2.0
PRODID:-//ChamberMaster//Event Calendar 2.0//EN
METHOD:PUBLISH
X-PUBLISHED-TTL:P3D
REFRESH-INTERVAL:P3D
CALSCALE:GREGORIAN
BEGIN:VEVENT
DTSTART:20240708T140000Z
DTEND:20240710T160000Z
X-MICROSOFT-CDO-ALLDAYEVENT:FALSE
SUMMARY:Youth Soccer Camp/VBS - Hosted by St. Paul Church
DESCRIPTION:St. Paul Church - Soccer Camp & VBS\n\n\n\nDate & Time: July 8-10\, 2024  |  9-11am OR 5-7pm\n\n\n\nLocation: Soccer Fields on Veterans Avenue\, by the VA and North Glendale Avenue\, Tomah\n\n\n\nCost: FREE\, open to any student entering 4K-5th for 2024-2025 school year. Players who register before June 12th will receive a complimentary camp T-shirt.  Registering after June 12 are not guaranteed a shirt\, but are welcome to attend.\n\n\n\nIf numbers are low sessions may be consolidated.  Each child should bring their own water bottle for each day.  New this year: 4K and K grades are required to have a parent/guardian stay during the camp and help guide their child through the drills and supervise them.  Older children may be dropped off and picked up at the end of each camp session.  Coaches are needed.    \n\n\n\nRegister HERE.
X-ALT-DESC;FMTTYPE=text/html:St. Paul Church - Soccer Camp &amp\; VBS<br />\n<br />\nDate &amp\; Time: July 8-10\, 2024&nbsp\; |&nbsp\; 9-11am OR 5-7pm<br />\n<br />\nLocation: Soccer Fields on Veterans Avenue\, by the VA and North Glendale Avenue\, Tomah<br />\n<br />\nCost: FREE\, open to any student entering 4K-5th for 2024-2025 school year. Players who register before June 12th will receive a complimentary camp T-shirt.&nbsp\; Registering after June 12 are not guaranteed a shirt\, but are welcome to attend.<br />\n<br />\nIf numbers are low sessions may be consolidated.&nbsp\; Each child should bring their own water bottle for each day.&nbsp\; New this year: 4K and K grades are required to have a parent/guardian stay during the camp and help guide their child through the drills and supervise them.&nbsp\; Older children may be dropped off and picked up at the end of each camp session.&nbsp\; Coaches are needed.&nbsp\; &nbsp\;&nbsp\;<br />\n<br />\nRegister <a href="https://docs.google.com/forms/d/1ApgTQ7gEpdJRJGAkEabaWdMyRtypnmPoBH0X5U3yBlY/viewform?edit_requested=true">HERE</a>.&nbsp\;
LOCATION:Soccer Fields on Veterans Avenue\, by the VA and North Glendale Avenue\, Tomah
UID:e.85.28143
SEQUENCE:3
DTSTAMP:20260421T001138Z
URL:https://members.tomahwisconsin.com/events/details/youth-soccer-camp-vbs-hosted-by-st-paul-church-28143
END:VEVENT

END:VCALENDAR
